BEGIN:VCALENDAR
VERSION:2.0
PRODID:-//The Healing Collective - ECPv5.4.0.2//NONSGML v1.0//EN
CALSCALE:GREGORIAN
METHOD:PUBLISH
X-WR-CALNAME:The Healing Collective
X-ORIGINAL-URL:https://old.healingcollective.ca
X-WR-CALDESC:Events for The Healing Collective
BEGIN:VTIMEZONE
TZID:America/Toronto
BEGIN:DAYLIGHT
TZOFFSETFROM:-0500
TZOFFSETTO:-0400
TZNAME:EDT
DTSTART:20190310T070000
END:DAYLIGHT
BEGIN:STANDARD
TZOFFSETFROM:-0400
TZOFFSETTO:-0500
TZNAME:EST
DTSTART:20191103T060000
END:STANDARD
END:VTIMEZONE
BEGIN:VEVENT
DTSTART;TZID=America/Toronto:20190602T110000
DTEND;TZID=America/Toronto:20190602T120000
DTSTAMP:20260423T175922
CREATED:20190408T200203Z
LAST-MODIFIED:20190408T200203Z
UID:10266-1559473200-1559476800@old.healingcollective.ca
SUMMARY:Yoga For Resilience
DESCRIPTION:This trauma-informed all-levels practice is centred around a mind-body experience that cultivates self-awareness and a more compassionate relationship with yourself and those around you. \nWith a focus on strength\, mobility and nervous system regulation\, you will discover how your body is designed to move\, gain self-confidence\, increase stress resilience\, and improve your coordination and balance - from head to toes! \nEvery week\, through yoga\, movement and other embodied practices\, we will explore what it means to harness the resilience you already possess. So come\, be curious\, and give yourself permission to have YOUR YOGA experience\, in YOUR BODY\, in YOUR WAY. Laughter is welcomed and encouraged! \nMONDAYS: APRIL 29\, MAY 6\, 13\, 20\, 27 12:00PM - 1:00PM \nSUNDAYS IN JUNE: 2\, 9\, 16\, 23\, 30 11:00AM - 12:00PM \n$90 - sign up for 4 classes and get the fifth class for free. Space is limited to 10 students. Contact Jenn Cardoso to register. \n{image description: Jenn in a yoga pose with class name written}
URL:https://old.healingcollective.ca/event/yoga-for-resilience-3/2019-06-02/
LOCATION:The Healing Collective\, 2005 Danforth Ave\, Toronto\, Ontario\, Canada
ATTACH;FMTTYPE=image/jpeg:https://old.healingcollective.ca/wp-content/uploads/2018/09/39746428_1078631285633274_5827691882418798592_o-e1547216021753.jpg
END:VEVENT
END:VCALENDAR