BEGIN:VCALENDAR
VERSION:2.0
PRODID:-//The Healing Collective - ECPv5.4.0.2//NONSGML v1.0//EN
CALSCALE:GREGORIAN
METHOD:PUBLISH
X-WR-CALNAME:The Healing Collective
X-ORIGINAL-URL:https://old.healingcollective.ca
X-WR-CALDESC:Events for The Healing Collective
BEGIN:VTIMEZONE
TZID:America/Toronto
BEGIN:DAYLIGHT
TZOFFSETFROM:-0500
TZOFFSETTO:-0400
TZNAME:EDT
DTSTART:20190310T070000
END:DAYLIGHT
BEGIN:STANDARD
TZOFFSETFROM:-0400
TZOFFSETTO:-0500
TZNAME:EST
DTSTART:20191103T060000
END:STANDARD
END:VTIMEZONE
BEGIN:VEVENT
DTSTART;TZID=America/Toronto:20190216T130000
DTEND;TZID=America/Toronto:20190216T143000
DTSTAMP:20260423T210617
CREATED:20190124T032923Z
LAST-MODIFIED:20190124T033052Z
UID:9767-1550322000-1550327400@old.healingcollective.ca
SUMMARY:Vivacious Valentine - A chocolate-themed belly dance workshop for more Bliss
DESCRIPTION:Join Shaila Khan to melt away the icy cold and connect with your most succulent self this Valentine's Day Weekend. This decadent belly dance practice creates a space for you to celebrate your scrumptious self through wild shimmies\, flirty belly dance technique and indulging in nourishing chocolate. Appreciate the sweetness of your vibrant being through this dance practice focused on connecting you to soothing warm rhythms and wave-work to keep you deliciously gooey throughout the frosty season. \nIn this workshop you will: \n• Learn to boost your serotonin and endorphins through wild shimmies and gooey wave work\n• Engage in sensual and flirty belly dance techniques that celebrate your most vibrant being\n•Learn how pleasure and joyous expression is both healing and regulating for our nervous system\n...Also each guest will get to nibble on a few pieces of artisan chocolate provided.\nDate: Saturday Feb 16\nDuration: 1.5 hours \nNotes to Prepare: \n1 - Please arrive at least 10 minutes before class to sign the waiver and change etc.Bring a water bottle.\n2 - We encourage guests to wear comfortable clothing for movement or clothes that allow them to feel their most sparkliest!\n3 - Shoes will not be worn indoors. Hip scarves and veils and props are provided. \nA note about Inclusivity :\nThis workshop is an exploration and celebration of the body. Belly Dance is a community practice that empowers individuals to experience the pleasure of connecting and honouring their sensual being\, therefore this space does not use mirrors. It is open to all bodies and gender-expression regardless of dance experiences. If there are any additional accessibility needs please contact the facilitator. \nGet your tickets here! \n{image description: workshop title written on top of photo of belly dancing costume detail}
URL:https://old.healingcollective.ca/event/vivacious-valentine-a-chocolate-themed-belly-dance-workshop-for-more-bliss/
LOCATION:The Healing Collective\, 2005 Danforth Ave\, Toronto\, Ontario\, Canada
ATTACH;FMTTYPE=image/jpeg:https://old.healingcollective.ca/wp-content/uploads/2019/01/50625315_353924408761917_1097735474115510272_o-e1548300251220.jpg
ORGANIZER;CN="The%20Healing%20Collective":MAILTO:info@healingcollective.ca
END:VEVENT
END:VCALENDAR