BEGIN:VCALENDAR
VERSION:2.0
PRODID:-//The Healing Collective - ECPv5.4.0.2//NONSGML v1.0//EN
CALSCALE:GREGORIAN
METHOD:PUBLISH
X-WR-CALNAME:The Healing Collective
X-ORIGINAL-URL:https://old.healingcollective.ca
X-WR-CALDESC:Events for The Healing Collective
BEGIN:VTIMEZONE
TZID:America/Toronto
BEGIN:DAYLIGHT
TZOFFSETFROM:-0500
TZOFFSETTO:-0400
TZNAME:EDT
DTSTART:20190310T070000
END:DAYLIGHT
BEGIN:STANDARD
TZOFFSETFROM:-0400
TZOFFSETTO:-0500
TZNAME:EST
DTSTART:20191103T060000
END:STANDARD
END:VTIMEZONE
BEGIN:VEVENT
DTSTART;TZID=America/Toronto:20190828T131500
DTEND;TZID=America/Toronto:20190828T134500
DTSTAMP:20260423T192711
CREATED:20190731T152050Z
LAST-MODIFIED:20190827T032851Z
UID:10487-1566998100-1566999900@old.healingcollective.ca
SUMMARY:Sprouting Melodies Free Demonstration
DESCRIPTION:Sprouting Melodies Demonstration \nJoin us for a live demonstration of Sprouting Melodies at the Healing Collective! You will have a chance to meet the instructor\, learn a couple of songs to sing with your little ones\, and ask any questions you may have. \nFor more details and to RSVP\, please visit the Facebook event. Registration is not strictly necessary but appreciated: it means that if the group gets too big I can open up additional slots. \n{image description: Sprouting Melodies logo}
URL:https://old.healingcollective.ca/event/sprouting-melodies-free-demonstration/
LOCATION:The Healing Collective\, 2005 Danforth Ave\, Toronto\, Ontario\, Canada
ATTACH;FMTTYPE=image/png:https://old.healingcollective.ca/wp-content/uploads/2019/07/SM-Horizontal-No-tag-Small-PNG-1-e1562024040553.png
END:VEVENT
END:VCALENDAR