BEGIN:VCALENDAR
VERSION:2.0
PRODID:-//The Healing Collective - ECPv5.4.0.2//NONSGML v1.0//EN
CALSCALE:GREGORIAN
METHOD:PUBLISH
X-WR-CALNAME:The Healing Collective
X-ORIGINAL-URL:https://old.healingcollective.ca
X-WR-CALDESC:Events for The Healing Collective
BEGIN:VTIMEZONE
TZID:America/Toronto
BEGIN:DAYLIGHT
TZOFFSETFROM:-0500
TZOFFSETTO:-0400
TZNAME:EDT
DTSTART:20180311T070000
END:DAYLIGHT
BEGIN:STANDARD
TZOFFSETFROM:-0400
TZOFFSETTO:-0500
TZNAME:EST
DTSTART:20181104T060000
END:STANDARD
END:VTIMEZONE
BEGIN:VEVENT
DTSTART;TZID=America/Toronto:20181028T093000
DTEND;TZID=America/Toronto:20181028T103000
DTSTAMP:20260423T175826
CREATED:20181023T023903Z
LAST-MODIFIED:20181023T023903Z
UID:9273-1540719000-1540722600@old.healingcollective.ca
SUMMARY:Soundbath for Kids and Parents
DESCRIPTION:Being a parent can be overwhelming sometimes. Between schoolwork and schedules\, it is tough to find time just to 'be' with our children...to relax\, rest\, and build connection. Yet our attachment to our children\, and creating meaningful moments are the times we treasure most. \nBeing a kid\, can also be tough. Sometimes you feel anxious\, and you need a little help to build your inner ninja. \nWhen parents and kids come together\, for a time just to be together\, good things happen. \nParent and child soundbaths\, are designed to serve you both\, in this calming experience that will help you reconnect\, recharge and restore balance to your nervous system\, and release any stored up stress from the week\, leaving you ready for Monday. \nLet the sounds of the quartz bowls wash over you in this one hour session. Bring your yoga mats\, pillow and blanket. \nI look forward to seeing you there! Register here - $40 per each parent/child. Learn more about Ruthann here. \n{image description: adult and child's hands clasped together}
URL:https://old.healingcollective.ca/event/soundbath-for-kids-and-parents/
ATTACH;FMTTYPE=image/jpeg:https://old.healingcollective.ca/wp-content/uploads/2018/10/https-cdn.evbuc_.com-images-51672773-99748541085-1-original-e1547907842809.jpg
END:VEVENT
END:VCALENDAR