BEGIN:VCALENDAR
VERSION:2.0
PRODID:-//The Healing Collective - ECPv5.4.0.2//NONSGML v1.0//EN
CALSCALE:GREGORIAN
METHOD:PUBLISH
X-WR-CALNAME:The Healing Collective
X-ORIGINAL-URL:https://old.healingcollective.ca
X-WR-CALDESC:Events for The Healing Collective
BEGIN:VTIMEZONE
TZID:America/Toronto
BEGIN:DAYLIGHT
TZOFFSETFROM:-0500
TZOFFSETTO:-0400
TZNAME:EDT
DTSTART:20190310T070000
END:DAYLIGHT
BEGIN:STANDARD
TZOFFSETFROM:-0400
TZOFFSETTO:-0500
TZNAME:EST
DTSTART:20191103T060000
END:STANDARD
END:VTIMEZONE
BEGIN:VEVENT
DTSTART;TZID=America/Toronto:20190203T143000
DTEND;TZID=America/Toronto:20190203T143000
DTSTAMP:20260423T230407
CREATED:20181101T005138Z
LAST-MODIFIED:20190119T143013Z
UID:9292-1549204200-1549204200@old.healingcollective.ca
SUMMARY:Community Soundbath
DESCRIPTION:Joining a group of other people\, come in\, lay down and get comfy on your yoga mat and pillow. The sound of Ruthann's voice accompanied by the playing of Quartz bowls\, and other soothing instruments\, create a wave of sound that will bring on deep levels of relaxation. Let the stress of life melt away\, recharge your battery to take on the week ahead. Leave feeling present\, connected and revitalized. Only ten places available. \nSee you there! \nContact Ruthann to register - $25 per person. \n{image description: Black and white photo of hands holding a quartz bowl}
URL:https://old.healingcollective.ca/event/sound-bath/2019-02-03/
ATTACH;FMTTYPE=image/jpeg:https://old.healingcollective.ca/wp-content/uploads/2018/10/i-BnfQZfd-X3-e1547908153781.jpg
END:VEVENT
END:VCALENDAR