BEGIN:VCALENDAR
VERSION:2.0
PRODID:-//The Healing Collective - ECPv5.4.0.2//NONSGML v1.0//EN
CALSCALE:GREGORIAN
METHOD:PUBLISH
X-WR-CALNAME:The Healing Collective
X-ORIGINAL-URL:https://old.healingcollective.ca
X-WR-CALDESC:Events for The Healing Collective
BEGIN:VTIMEZONE
TZID:America/Toronto
BEGIN:DAYLIGHT
TZOFFSETFROM:-0500
TZOFFSETTO:-0400
TZNAME:EDT
DTSTART:20190310T070000
END:DAYLIGHT
BEGIN:STANDARD
TZOFFSETFROM:-0400
TZOFFSETTO:-0500
TZNAME:EST
DTSTART:20191103T060000
END:STANDARD
END:VTIMEZONE
BEGIN:VEVENT
DTSTART;TZID=America/Toronto:20190928T100000
DTEND;TZID=America/Toronto:20190928T113000
DTSTAMP:20260423T175800
CREATED:20190831T121537Z
LAST-MODIFIED:20190903T002127Z
UID:10583-1569664800-1569670200@old.healingcollective.ca
SUMMARY:Shaolin Internal Qi Gong Breathing Workshop
DESCRIPTION:An ancient Chinese technique emphasizing relaxation\, balance\, coordination\, and agility. Qi Gong & Tai Chi is a total system of exercises promoting circulation\, flexibility\, inner strength as well as mental and physical discipline. These practices are known to clear the mind\, increase balance and coordination\, as well as improve the quality of all the essential functions - like sleep\, digestion and breathing. \nFacilitated by Yuan Jing\, a Shaolin Warrior Monk from the Shaolin Temple in China. He has been studying traditional Kung Fu\, Tai Chi\, Qi Gong and Meditation since the age of 12. Learn more about him and his practice here. \nCost: $30 (+HST) \nSaturday September 28th\, 10-11.30am. Please register here. \n{image descrption: Shifu Yuan Jing\, wearing traditional clothing\, standing in a Tai Chi position in front of a river}
URL:https://old.healingcollective.ca/event/shaolin-internal-qi-gong-breathing-workshop/
LOCATION:The Healing Collective\, 2005 Danforth Ave\, Toronto\, Ontario\, Canada
ATTACH;FMTTYPE=image/jpeg:https://old.healingcollective.ca/wp-content/uploads/2019/08/PAUL4273-e1567253659747.jpg
ORGANIZER;CN="The%20Healing%20Collective":MAILTO:info@healingcollective.ca
END:VEVENT
END:VCALENDAR