BEGIN:VCALENDAR
VERSION:2.0
PRODID:-//The Healing Collective - ECPv5.4.0.2//NONSGML v1.0//EN
CALSCALE:GREGORIAN
METHOD:PUBLISH
X-WR-CALNAME:The Healing Collective
X-ORIGINAL-URL:https://old.healingcollective.ca
X-WR-CALDESC:Events for The Healing Collective
BEGIN:VTIMEZONE
TZID:America/Toronto
BEGIN:DAYLIGHT
TZOFFSETFROM:-0500
TZOFFSETTO:-0400
TZNAME:EDT
DTSTART:20180311T070000
END:DAYLIGHT
BEGIN:STANDARD
TZOFFSETFROM:-0400
TZOFFSETTO:-0500
TZNAME:EST
DTSTART:20181104T060000
END:STANDARD
END:VTIMEZONE
BEGIN:VEVENT
DTSTART;TZID=America/Toronto:20181202T130000
DTEND;TZID=America/Toronto:20181202T143000
DTSTAMP:20260423T193214
CREATED:20181101T015148Z
LAST-MODIFIED:20181101T015148Z
UID:9301-1543755600-1543761000@old.healingcollective.ca
SUMMARY:Self-Regulation Tools for Resilience: Holiday Edition
DESCRIPTION:There is so much additional stress layered on at this time of year. While you can’t ditch the stress you can be more resilient to it. And\, you can do this by drawing on your own ability to self regulate\, AKA self-soothe. In this workshop you will discover simple body based self-regulation tools and practices to improve your ability to stay grounded and calm in your own body while resourcing your friends and family to do the same.\n \nYou will experience first hand how these tools and practices can help you:\n\n\nBe more aware of your needs\nTake good\, consistent care of yourself\nKnow when you are triggered by the past and learn to reoriente to the present moment\nBe more responsive to stressful situations and triggers as opposed to reacting to them\nConnect to your calm strength and resilience so you can anchor others\nImprove your ability to make decisions\n\n\nWalk away feeling more resourced\, focused and capable of taking on all the crazy that the holidays might throw your way!\n\n$30 to register and space is limited. Teens are welcome.\n \nRegister here - https://jenncardosoresilience.as.me/selfreg\n\nEmail Jenn at jenn@compassmovement.com if you have questions.\n\n\n{image description: blue background with snowflakes\, text says "Self-Regulation Tools for Resilience: Holiday Edition"}
URL:https://old.healingcollective.ca/event/self-regulation-tools-for-resilience-holiday-edition/
ATTACH;FMTTYPE=image/png:https://old.healingcollective.ca/wp-content/uploads/2018/10/1-1.png
END:VEVENT
END:VCALENDAR