BEGIN:VCALENDAR
VERSION:2.0
PRODID:-//The Healing Collective - ECPv5.4.0.2//NONSGML v1.0//EN
CALSCALE:GREGORIAN
METHOD:PUBLISH
X-WR-CALNAME:The Healing Collective
X-ORIGINAL-URL:https://old.healingcollective.ca
X-WR-CALDESC:Events for The Healing Collective
BEGIN:VTIMEZONE
TZID:America/Toronto
BEGIN:DAYLIGHT
TZOFFSETFROM:-0500
TZOFFSETTO:-0400
TZNAME:EDT
DTSTART:20190310T070000
END:DAYLIGHT
BEGIN:STANDARD
TZOFFSETFROM:-0400
TZOFFSETTO:-0500
TZNAME:EST
DTSTART:20191103T060000
END:STANDARD
END:VTIMEZONE
BEGIN:VEVENT
DTSTART;TZID=America/Toronto:20190328T190000
DTEND;TZID=America/Toronto:20190328T203000
DTSTAMP:20260424T000051
CREATED:20190228T164034Z
LAST-MODIFIED:20190314T164306Z
UID:10056-1553799600-1553805000@old.healingcollective.ca
SUMMARY:Self-Care Through Creative Movement
DESCRIPTION:Facilitated by Jessica Houghton (RP qualifying)\, this 10 week Dance Movement Psychotherapy group offers participants a chance to deepen their relationship with their body\, needs\, and self-care practice. Through accessing the wealth of information available to us in our bodies\, we can start to get in touch with what we need\, and offer ourselves the chance to have those needs met. Together we will begin the process of holding ourselves with compassion\, practice listening to our body's cues\, and develop our ability to ask for what we need from others. Jessica's approach uses dance as a medium for self-discovery\, allowing participants to expand their awareness of their patterns of moving and relating and find ways to access their creative impulses towards healing. \nWhen: Thursdays from March 21st-May 23rd\, 7:00-8:30pm \nWhere: The Healing Collective\, 2005 Danforth Ave. \nHow much: $300 \nTo register email movingtogetherDMP@gmail.com
URL:https://old.healingcollective.ca/event/self-care-through-creative-movement/2019-03-28/
LOCATION:The Healing Collective\, 2005 Danforth Ave\, Toronto\, Ontario\, Canada
ATTACH;FMTTYPE=image/jpeg:https://old.healingcollective.ca/wp-content/uploads/2019/02/52800450_1028606670678957_8447186028157992960_n.jpg
END:VEVENT
END:VCALENDAR