BEGIN:VCALENDAR
VERSION:2.0
PRODID:-//The Healing Collective - ECPv5.4.0.2//NONSGML v1.0//EN
CALSCALE:GREGORIAN
METHOD:PUBLISH
X-WR-CALNAME:The Healing Collective
X-ORIGINAL-URL:https://old.healingcollective.ca
X-WR-CALDESC:Events for The Healing Collective
BEGIN:VTIMEZONE
TZID:America/Toronto
BEGIN:DAYLIGHT
TZOFFSETFROM:-0500
TZOFFSETTO:-0400
TZNAME:EDT
DTSTART:20190310T070000
END:DAYLIGHT
BEGIN:STANDARD
TZOFFSETFROM:-0400
TZOFFSETTO:-0500
TZNAME:EST
DTSTART:20191103T060000
END:STANDARD
END:VTIMEZONE
BEGIN:VEVENT
DTSTART;TZID=America/Toronto:20191218T190000
DTEND;TZID=America/Toronto:20191218T201500
DTSTAMP:20260423T111007
CREATED:20191204T175920Z
LAST-MODIFIED:20191204T175920Z
UID:10943-1576695600-1576700100@old.healingcollective.ca
SUMMARY:Restorative Bliss Sound Bath
DESCRIPTION:Restorative Bliss welcomes you to a space where you can let go\, be cared for\, and leave restored in mind\, body and soul. Join us on Wednesday\, December 18th from 7pm-8:15pm for south bath\, that includes a grounding meditation and supportive hands-on Reiki.\n \nWhere: The Healing Collective\nWhen: Wednesday\, December 18\, 2019 from 7pm to 8:15pm.\nWhat: Sound Bath with grounding mediation and supportive hands-on Reiki.\nHow much: $25+HST\n \nYou may register in advance for this event at www.restorativebliss.ca \n* Please bring a yoga mat and anything else you need to feel comfortable\, such as a pillow and/or blanket. \n\n{image description: singing bowls}
URL:https://old.healingcollective.ca/event/restorative-bliss-sound-bath/
LOCATION:The Healing Collective\, 2005 Danforth Ave\, Toronto\, Ontario\, Canada
ATTACH;FMTTYPE=image/jpeg:https://old.healingcollective.ca/wp-content/uploads/2019/12/Singingbowls-scaled-e1575482222751.jpg
END:VEVENT
END:VCALENDAR