BEGIN:VCALENDAR
VERSION:2.0
PRODID:-//The Healing Collective - ECPv5.4.0.2//NONSGML v1.0//EN
CALSCALE:GREGORIAN
METHOD:PUBLISH
X-WR-CALNAME:The Healing Collective
X-ORIGINAL-URL:https://old.healingcollective.ca
X-WR-CALDESC:Events for The Healing Collective
BEGIN:VTIMEZONE
TZID:America/Toronto
BEGIN:DAYLIGHT
TZOFFSETFROM:-0500
TZOFFSETTO:-0400
TZNAME:EDT
DTSTART:20190310T070000
END:DAYLIGHT
BEGIN:STANDARD
TZOFFSETFROM:-0400
TZOFFSETTO:-0500
TZNAME:EST
DTSTART:20191103T060000
END:STANDARD
END:VTIMEZONE
BEGIN:VEVENT
DTSTART;TZID=America/Toronto:20190318T180000
DTEND;TZID=America/Toronto:20190318T200000
DTSTAMP:20260423T194541
CREATED:20190212T184456Z
LAST-MODIFIED:20190212T224305Z
UID:9882-1552932000-1552939200@old.healingcollective.ca
SUMMARY:RECOVERY IMPROV with Ashley Seaman: Healing from an Eating Disorder  through Mindfulness & Play
DESCRIPTION:This 2 hour workshop invites participants to take a playful approach to the healing process.  Designed specifically for individuals battling an eating disorder and created by an individual who has recovered from one\, we will spend the evening connecting to the moment\, ourselves and each other with a sense of humour\, joy and above all - acceptance.  Making Improv a part of your recovery process welcomes a refreshed perspective that seeks opportunity in each honest moment.  Learn more about Ashley here\, and get your tickets here! \nWhat to expect:\nYou don’t need to expect anything! You are encouraged to show up with an open mind and enjoy feeling supported and connected to others.  You are not alone!  Throughout our time together\, you will be gently reminded to find acceptance\, however messy or uncertain or awkward!  You will be encouraged to discover the amazing value YOU have to offer - just by being honestly YOU.  \nIn case you want to have a little expectation: \nWe will chat\, breathe\, sit\, stand\, move our bodies in ways that feel comfortable; we will be invited (never forced!) outside of our comfort zone in safe & supported ways to discover opportunities outside our habits.  We will play games\, we will lose and fail (on purpose!) with no stakes\, and we will laugh!  \nWhat to bring:\nYourself and a willingness to explore acceptance and the healing benefits of laughter\, connection and an exceptionally supportive space! \nMaybe some water (hydration is always important). \nComfy clothes.  No need to impress! Time to relax and play.  \nThink about what you might wear if you were a kid and it was recess.  \nThis is YOUR time. \n{image description: a photo of Ashley and The Healing Collective logo} \n 
URL:https://old.healingcollective.ca/event/recovery-improv-with-ashley-seaman-healing-from-an-eating-disorder-through-mindfulness-play/
LOCATION:The Healing Collective\, 2005 Danforth Ave\, Toronto\, Ontario\, Canada
ATTACH;FMTTYPE=image/png:https://old.healingcollective.ca/wp-content/uploads/2019/02/Workshop-Write-Up-PHOTO-e1549996798965.png
ORGANIZER;CN="The%20Healing%20Collective":MAILTO:info@healingcollective.ca
END:VEVENT
END:VCALENDAR