BEGIN:VCALENDAR
VERSION:2.0
PRODID:-//The Healing Collective - ECPv5.4.0.2//NONSGML v1.0//EN
CALSCALE:GREGORIAN
METHOD:PUBLISH
X-WR-CALNAME:The Healing Collective
X-ORIGINAL-URL:https://old.healingcollective.ca
X-WR-CALDESC:Events for The Healing Collective
BEGIN:VTIMEZONE
TZID:America/Toronto
BEGIN:DAYLIGHT
TZOFFSETFROM:-0500
TZOFFSETTO:-0400
TZNAME:EDT
DTSTART:20190310T070000
END:DAYLIGHT
BEGIN:STANDARD
TZOFFSETFROM:-0400
TZOFFSETTO:-0500
TZNAME:EST
DTSTART:20191103T060000
END:STANDARD
END:VTIMEZONE
BEGIN:VEVENT
DTSTART;TZID=America/Toronto:20191020T130000
DTEND;TZID=America/Toronto:20191020T160000
DTSTAMP:20260423T125235
CREATED:20191008T030252Z
LAST-MODIFIED:20191008T030252Z
UID:10846-1571576400-1571587200@old.healingcollective.ca
SUMMARY:Peaceful Parenting 101
DESCRIPTION:Peaceful parenting doesn’t mean the kids are in charge! Learn exactly what Peaceful Parenting is\, why it’s important and how to apply it. I’ll teach you how to set kind\, firm limits and get kids to cooperate using lots of empathy and support. Peaceful parenting is the best approach to raise resilient\, successful\, happy and emotionally intelligent kids. \nBring your questions and challenges to this interactive workshop. \nCost: $75 Per Person -or- Per Couple \nThis workshop is right for you if:you have children between ages 2-10 years. \nRegister: Email Sarah at sarah@sarahrosensweet.com \nSpace is limited.
URL:https://old.healingcollective.ca/event/peaceful-parenting-101/
LOCATION:The Healing Collective\, 2005 Danforth Ave\, Toronto\, Ontario\, Canada
ATTACH;FMTTYPE=application/pdf:https://old.healingcollective.ca/wp-content/uploads/2019/10/Peaceful-Paretning-101-1.pdf
END:VEVENT
END:VCALENDAR