BEGIN:VCALENDAR
VERSION:2.0
PRODID:-//The Healing Collective - ECPv5.4.0.2//NONSGML v1.0//EN
CALSCALE:GREGORIAN
METHOD:PUBLISH
X-WR-CALNAME:The Healing Collective
X-ORIGINAL-URL:https://old.healingcollective.ca
X-WR-CALDESC:Events for The Healing Collective
BEGIN:VTIMEZONE
TZID:America/Toronto
BEGIN:DAYLIGHT
TZOFFSETFROM:-0500
TZOFFSETTO:-0400
TZNAME:EDT
DTSTART:20200308T070000
END:DAYLIGHT
BEGIN:STANDARD
TZOFFSETFROM:-0400
TZOFFSETTO:-0500
TZNAME:EST
DTSTART:20201101T060000
END:STANDARD
END:VTIMEZONE
BEGIN:VEVENT
DTSTART;TZID=America/Toronto:20200323T190000
DTEND;TZID=America/Toronto:20200323T203000
DTSTAMP:20260423T074432
CREATED:20200210T201526Z
LAST-MODIFIED:20200210T201526Z
UID:11146-1584990000-1584995400@old.healingcollective.ca
SUMMARY:Parenting with Connection Support Group
DESCRIPTION:An 8 week support group for parents of school-aged children. We will provide a safe space to explore our own responses to parenting challenges\, gain skills and build connection and resilience. Topics will include: brain basics\, emotion-regulation\, guiding behaviours\, mindfulness\, self-compassion\, acceptance and change. Facilitated by Yzobela Hyett and Suzanne Siskind. Learn more about Parenting with Connection here  or email info@parentingwithconnection.com.\n\nMonday evenings\, 7:00-8:30pm\n$260/per person\nMar 23 - May 25 (No group on Easter Monday or Victoria Day.)\n\n{image description: family sitting on a hill facing a mountain\, with group details and "parenting with connection" written over the image}
URL:https://old.healingcollective.ca/event/parenting-with-connection-support-group/2020-03-23/
LOCATION:The Healing Collective\, 2005 Danforth Ave\, Toronto\, Ontario\, Canada
ATTACH;FMTTYPE=image/png:https://old.healingcollective.ca/wp-content/uploads/2020/02/PWC-8wkgrp-Insta-e1581365650643.png
END:VEVENT
END:VCALENDAR