BEGIN:VCALENDAR
VERSION:2.0
PRODID:-//The Healing Collective - ECPv5.4.0.2//NONSGML v1.0//EN
CALSCALE:GREGORIAN
METHOD:PUBLISH
X-WR-CALNAME:The Healing Collective
X-ORIGINAL-URL:https://old.healingcollective.ca
X-WR-CALDESC:Events for The Healing Collective
BEGIN:VTIMEZONE
TZID:America/Toronto
BEGIN:DAYLIGHT
TZOFFSETFROM:-0500
TZOFFSETTO:-0400
TZNAME:EDT
DTSTART:20190310T070000
END:DAYLIGHT
BEGIN:STANDARD
TZOFFSETFROM:-0400
TZOFFSETTO:-0500
TZNAME:EST
DTSTART:20191103T060000
END:STANDARD
END:VTIMEZONE
BEGIN:VEVENT
DTSTART;TZID=America/Toronto:20190302T130000
DTEND;TZID=America/Toronto:20190302T150000
DTSTAMP:20260423T235904
CREATED:20190124T033713Z
LAST-MODIFIED:20190124T220224Z
UID:9772-1551531600-1551538800@old.healingcollective.ca
SUMMARY:Paint your Creative Magic
DESCRIPTION:✨A meditative and reflective workshop on accessing our creative magic✨ \n??Are you wanted to create some more creative space in your life? Then let’s chat! This is a workshop where we will look at some of our creative blocks and illustrate how they are making it difficult for creativity to flow into our lives. \n✨We will discuss how some form of fear is ultimately what’s blocking us or causing procrastination with our projects. \n✨In this workshop we will draw two illustrations with the intention to get our creative energy flowing. \n??‍♀️Never painted or drawn before? PERFECT! this is a no experience class needed. Just bring your willingness to get vulnerable with us. While this is a drawing and painting class; it is a class for anyone who is creative in any arena or LOOKING to be creative! \n✅ Click link to pick up your early bird ticket! \n{image description: illustration of Stephanie Chinn and the title of the workshop}
URL:https://old.healingcollective.ca/event/paint-your-creative-magic/
ATTACH;FMTTYPE=image/jpeg:https://old.healingcollective.ca/wp-content/uploads/2019/01/image1-e1548367270428.jpeg
END:VEVENT
END:VCALENDAR