BEGIN:VCALENDAR
VERSION:2.0
PRODID:-//The Healing Collective - ECPv5.4.0.2//NONSGML v1.0//EN
CALSCALE:GREGORIAN
METHOD:PUBLISH
X-WR-CALNAME:The Healing Collective
X-ORIGINAL-URL:https://old.healingcollective.ca
X-WR-CALDESC:Events for The Healing Collective
BEGIN:VTIMEZONE
TZID:America/Toronto
BEGIN:DAYLIGHT
TZOFFSETFROM:-0500
TZOFFSETTO:-0400
TZNAME:EDT
DTSTART:20190310T070000
END:DAYLIGHT
BEGIN:STANDARD
TZOFFSETFROM:-0400
TZOFFSETTO:-0500
TZNAME:EST
DTSTART:20191103T060000
END:STANDARD
END:VTIMEZONE
BEGIN:VEVENT
DTSTART;TZID=America/Toronto:20190406T130000
DTEND;TZID=America/Toronto:20190406T150000
DTSTAMP:20260423T192457
CREATED:20190324T150336Z
LAST-MODIFIED:20190324T150336Z
UID:10219-1554555600-1554562800@old.healingcollective.ca
SUMMARY:Paint for Self-Discovery
DESCRIPTION:(NO ART EXPERIENCE NEEDED)Hosted by Stephanie Chinn\, this workshop is about the process of bringing out what is going on inside of not; not the product. So if you are new to painting or drawing...great! \nThis is a meditative workshop where we get to know ourselves a little bit better and love ourselves\, our authentic selves a little bit more. \nIn this workshop we will reflect on how some of our toughest times can can create our most resilient selves and on how to turn that into our most meaningful and creative pieces. We will also reflect on our favourite attributes about ourselves. \nI want you to leave with the tools you need to dive deeper into yourself and channel your creative self as a way to be more mindful. \nFor me\, when I started to reflect on what I was trying to tell myself and pay attention to life’s little clues is when I started to build up an appreciation for myself as well as build more self-love rituals. \nI’d love to have you there! Get your tickets early as these workshops tend to sell out.
URL:https://old.healingcollective.ca/event/paint-for-self-discovery/
LOCATION:The Healing Collective\, 2005 Danforth Ave\, Toronto\, Ontario\, Canada
ATTACH;FMTTYPE=image/jpeg:https://old.healingcollective.ca/wp-content/uploads/2019/03/54279022_1054549658074826_8955706578296635392_n-e1553439718493.jpg
END:VEVENT
END:VCALENDAR