BEGIN:VCALENDAR
VERSION:2.0
PRODID:-//The Healing Collective - ECPv5.4.0.2//NONSGML v1.0//EN
CALSCALE:GREGORIAN
METHOD:PUBLISH
X-WR-CALNAME:The Healing Collective
X-ORIGINAL-URL:https://old.healingcollective.ca
X-WR-CALDESC:Events for The Healing Collective
BEGIN:VTIMEZONE
TZID:America/Toronto
BEGIN:DAYLIGHT
TZOFFSETFROM:-0500
TZOFFSETTO:-0400
TZNAME:EDT
DTSTART:20180311T070000
END:DAYLIGHT
BEGIN:STANDARD
TZOFFSETFROM:-0400
TZOFFSETTO:-0500
TZNAME:EST
DTSTART:20181104T060000
END:STANDARD
END:VTIMEZONE
BEGIN:VEVENT
DTSTART;TZID=America/Toronto:20180918T190000
DTEND;TZID=America/Toronto:20180918T203000
DTSTAMP:20260424T042656
CREATED:20180915T020317Z
LAST-MODIFIED:20180921T204411Z
UID:8943-1537297200-1537302600@old.healingcollective.ca
SUMMARY:Moving Women
DESCRIPTION:Moving Women is a weekly group that meets on Tuesday evenings from 7:00-8:30pm and offers a safe space where women\, and anyone who identifies as female and relates to women’s issues\, can come together to find support\, acceptance and empowerment. Using creative movement and dance as a medium for self-discovery\, we will develop an awareness of our patterns of moving and relating\, both in dance and in life. The group will provide a space to explore these patterns\, try out different ways of doing things\, and look at what obstacles are getting in the way of your growth. Open to all women over 18 years of age. $200 for 8 weeks of sessions.\nFor more information visit http://moving-together.ca/group-therapy/ or contact Jessica.
URL:https://old.healingcollective.ca/event/moving-women/2018-09-18/
ATTACH;FMTTYPE=image/jpeg:https://old.healingcollective.ca/wp-content/uploads/2018/09/41661513_10211121353423653_4152723146002137088_o.jpg
END:VEVENT
END:VCALENDAR