BEGIN:VCALENDAR
VERSION:2.0
PRODID:-//The Healing Collective - ECPv5.4.0.2//NONSGML v1.0//EN
CALSCALE:GREGORIAN
METHOD:PUBLISH
X-WR-CALNAME:The Healing Collective
X-ORIGINAL-URL:https://old.healingcollective.ca
X-WR-CALDESC:Events for The Healing Collective
BEGIN:VTIMEZONE
TZID:America/Toronto
BEGIN:DAYLIGHT
TZOFFSETFROM:-0500
TZOFFSETTO:-0400
TZNAME:EDT
DTSTART:20190310T070000
END:DAYLIGHT
BEGIN:STANDARD
TZOFFSETFROM:-0400
TZOFFSETTO:-0500
TZNAME:EST
DTSTART:20191103T060000
END:STANDARD
END:VTIMEZONE
BEGIN:VEVENT
DTSTART;TZID=America/Toronto:20190430T190000
DTEND;TZID=America/Toronto:20190430T203000
DTSTAMP:20260424T021000
CREATED:20181212T165102Z
LAST-MODIFIED:20190508T170735Z
UID:9444-1556650800-1556656200@old.healingcollective.ca
SUMMARY:Moving Women
DESCRIPTION:Moving Women is a weekly group that meets on Tuesday evenings from 7:00-8:30pm and offers a safe space where women\, and anyone who identifies as female and relates to women’s issues\, can come together to find support\, acceptance and empowerment. Using creative movement and dance as a medium for self-discovery\, we will develop an awareness of our patterns of moving and relating\, both in dance and in life. The group will provide a space to explore these patterns\, try out different ways of doing things\, and look at what obstacles are getting in the way of your growth. Open to all women over 18 years of age. $200 for 8 weeks of sessions.\nFor more information visit http://moving-together.ca/group-therapy/ or contact Jessica. \n  \n{image description: pillows in a circle in the  group room}
URL:https://old.healingcollective.ca/event/moving-women-2/2019-04-30/
LOCATION:Toronto\, ON\, Canada
ATTACH;FMTTYPE=image/jpeg:https://old.healingcollective.ca/wp-content/uploads/2018/12/45379014_1640767486069769_1918882282798579712_n-1-e1547216535345.jpg
END:VEVENT
END:VCALENDAR