BEGIN:VCALENDAR
VERSION:2.0
PRODID:-//The Healing Collective - ECPv5.4.0.2//NONSGML v1.0//EN
CALSCALE:GREGORIAN
METHOD:PUBLISH
X-WR-CALNAME:The Healing Collective
X-ORIGINAL-URL:https://old.healingcollective.ca
X-WR-CALDESC:Events for The Healing Collective
BEGIN:VTIMEZONE
TZID:America/Toronto
BEGIN:DAYLIGHT
TZOFFSETFROM:-0500
TZOFFSETTO:-0400
TZNAME:EDT
DTSTART:20190310T070000
END:DAYLIGHT
BEGIN:STANDARD
TZOFFSETFROM:-0400
TZOFFSETTO:-0500
TZNAME:EST
DTSTART:20191103T060000
END:STANDARD
END:VTIMEZONE
BEGIN:VEVENT
DTSTART;TZID=America/Toronto:20190926T190000
DTEND;TZID=America/Toronto:20190926T210000
DTSTAMP:20260423T194221
CREATED:20190912T183410Z
LAST-MODIFIED:20190913T204741Z
UID:10741-1569524400-1569531600@old.healingcollective.ca
SUMMARY:Intuitive Tarot : A Gateway to Wisdom - with Diana Piruzevska
DESCRIPTION:Reading Tarot can be an intimidating process. There’s 78 different cards to learn and memorize\, and countless symbols and mysterious arcana to decode in each one. It may feel like an impossible skill to master and we become reluctant to let go of the safety net of our guide books. And it is true that there is much wisdom contained in every deck\, but what if we could reimagine the tarot not as a text that needs to be memorized but a gateway to our own intuitive intelligence. It this workshop\, Psychic and Tarot reader Diana Piruzevska\,will show you how to let go of what you think you need to know and teach you an intuitive approach to reading tarot for yourself and others. Register here! \n{image description: tarot cards and a selenite crystal}
URL:https://old.healingcollective.ca/event/intuitive-tarot-a-gateway-to-wisdom-with-diana-piruzevska/
LOCATION:The Healing Collective\, 2005 Danforth Ave\, Toronto\, Ontario\, Canada
ATTACH;FMTTYPE=image/jpeg:https://old.healingcollective.ca/wp-content/uploads/2019/09/diana-e1568311356382.jpeg
END:VEVENT
END:VCALENDAR