BEGIN:VCALENDAR
VERSION:2.0
PRODID:-//The Healing Collective - ECPv5.4.0.2//NONSGML v1.0//EN
CALSCALE:GREGORIAN
METHOD:PUBLISH
X-WR-CALNAME:The Healing Collective
X-ORIGINAL-URL:https://old.healingcollective.ca
X-WR-CALDESC:Events for The Healing Collective
BEGIN:VTIMEZONE
TZID:America/Toronto
BEGIN:DAYLIGHT
TZOFFSETFROM:-0500
TZOFFSETTO:-0400
TZNAME:EDT
DTSTART:20200308T070000
END:DAYLIGHT
BEGIN:STANDARD
TZOFFSETFROM:-0400
TZOFFSETTO:-0500
TZNAME:EST
DTSTART:20201101T060000
END:STANDARD
END:VTIMEZONE
BEGIN:VEVENT
DTSTART;TZID=America/Toronto:20200206T194500
DTEND;TZID=America/Toronto:20200206T204500
DTSTAMP:20260423T093347
CREATED:20200110T180753Z
LAST-MODIFIED:20200121T042131Z
UID:11049-1581018300-1581021900@old.healingcollective.ca
SUMMARY:Grief-Sensitive Yoga
DESCRIPTION:Grief-Sensitive Yoga with Stephanie Stevenson\n\n\nThis 4 week pre-registered series is designed to release grief through connection and movement. No experience necessary. Please bring your own yoga mat. \n  \n\nThursday February 6th  7:45pm- 8:45pm\nThursday February 13th  7:45pm- 8:45pm\nThursday February 20th  7:45pm- 8:45pm\nThursday February 27th 7:45pm-8:45pm\n\nInvestment: $70 \n\nPlease register via email at metahealthtoronto@gmail.com. Limited spots available. Registration will be open until Wednesday January 22nd.\nIf you have any questions and/or concerns\, please do not hesitate to contact Stephanie by email.
URL:https://old.healingcollective.ca/event/grief-sensitive-yoga-2/2020-02-06/
LOCATION:The Healing Collective\, 2005 Danforth Ave\, Toronto\, Ontario\, Canada
ATTACH;FMTTYPE=image/jpeg:https://old.healingcollective.ca/wp-content/uploads/2020/01/griefyoga-e1578679660733.jpg
END:VEVENT
END:VCALENDAR