BEGIN:VCALENDAR
VERSION:2.0
PRODID:-//The Healing Collective - ECPv5.4.0.2//NONSGML v1.0//EN
CALSCALE:GREGORIAN
METHOD:PUBLISH
X-WR-CALNAME:The Healing Collective
X-ORIGINAL-URL:https://old.healingcollective.ca
X-WR-CALDESC:Events for The Healing Collective
BEGIN:VTIMEZONE
TZID:America/Toronto
BEGIN:DAYLIGHT
TZOFFSETFROM:-0500
TZOFFSETTO:-0400
TZNAME:EDT
DTSTART:20190310T070000
END:DAYLIGHT
BEGIN:STANDARD
TZOFFSETFROM:-0400
TZOFFSETTO:-0500
TZNAME:EST
DTSTART:20191103T060000
END:STANDARD
END:VTIMEZONE
BEGIN:VEVENT
DTSTART;TZID=America/Toronto:20190824T110000
DTEND;TZID=America/Toronto:20190824T140000
DTSTAMP:20260423T192514
CREATED:20190802T012234Z
LAST-MODIFIED:20190802T012234Z
UID:10489-1566644400-1566655200@old.healingcollective.ca
SUMMARY:CreateBeing + Tali: Embroidery Workshop
DESCRIPTION:CreateBeing is excited to collaborate with embroidery artist\, Tali Tjiang (IG: @talitjiang) to introduce the basics of embroidery!\n\n\n\n\n\n\nAbout this Event\n\n\nTali will teach the fundamental stitches to create a piece for you to take home. She will guide you through different embroidery methods\, tips to prepare the fabric\, patterns and threads for the project. \nThe goal for this workshop is to inspire you to explore this interest and explore this great craft. You will leave with basic knowledge/techniques\, meet like minded people and take home your beautiful new project. \nThe fee for the three hour workshop includes materials. All folx are welcomed. If you are interested in learning a new skill\, come join us! Limited spots available. \nRead more about Tali’s inspirations\, experience and artist statement HERE. \nCreateBeing is a company that collaborates with people to express their mental health experiences in a creative way. We support our community by sharing knowledge\, resources and reminding each other that we are not alone in our experiences. \nRegister in advance here.
URL:https://old.healingcollective.ca/event/createbeing-tali-embroidery-workshop/
LOCATION:The Healing Collective\, 2005 Danforth Ave\, Toronto\, Ontario\, Canada
ATTACH;FMTTYPE=image/jpeg:https://old.healingcollective.ca/wp-content/uploads/2019/08/https-cdn.evbuc_.com-images-67172981-311792078942-1-original.20190731-214902-e1564708873315.jpeg
END:VEVENT
END:VCALENDAR