BEGIN:VCALENDAR
VERSION:2.0
PRODID:-//The Healing Collective - ECPv5.4.0.2//NONSGML v1.0//EN
CALSCALE:GREGORIAN
METHOD:PUBLISH
X-WR-CALNAME:The Healing Collective
X-ORIGINAL-URL:https://old.healingcollective.ca
X-WR-CALDESC:Events for The Healing Collective
BEGIN:VTIMEZONE
TZID:America/Toronto
BEGIN:DAYLIGHT
TZOFFSETFROM:-0500
TZOFFSETTO:-0400
TZNAME:EDT
DTSTART:20190310T070000
END:DAYLIGHT
BEGIN:STANDARD
TZOFFSETFROM:-0400
TZOFFSETTO:-0500
TZNAME:EST
DTSTART:20191103T060000
END:STANDARD
END:VTIMEZONE
BEGIN:VEVENT
DTSTART;TZID=America/Toronto:20191019T130000
DTEND;TZID=America/Toronto:20191019T160000
DTSTAMP:20260423T193654
CREATED:20191015T194955Z
LAST-MODIFIED:20191015T195130Z
UID:10869-1571490000-1571500800@old.healingcollective.ca
SUMMARY:Community Care Day: Free Event
DESCRIPTION:To celebrate our first anniversary and to say thank you for your support\, we’d like to invite you to a day of community care! \nCome and learn about our collective and offerings\, meet practitioners\, and learn some strategies to improve your mental health and wellness! Join us for workshops\, information sessions\, mini treatments\, and activities for all ages throughout the day. \nThe schedule for our group offerings is: \n1:30 Land Acknowledgement and welcome (Abby Rozen and Caroline Starr) \n2:00 Love Languages (Greg Babcock and Jamie Lemen) \n2:30 Letting Go - guided meditation (Lisa Derencinovic) \n3:00 Parenting Compass (David Jan Jurasek) \n3:30 art workshop (Stephanie Chin) \nAlongside this we will have Care Stations with Zentangle\, affirmations\, mental health poetry and more! \n{image description: sun shining over wild flowers}
URL:https://old.healingcollective.ca/event/community-care-day-free-event/
ATTACH;FMTTYPE=image/jpeg:https://old.healingcollective.ca/wp-content/uploads/2019/10/70187561_1346732012156532_6774035832434065408_n.jpg
END:VEVENT
END:VCALENDAR