BEGIN:VCALENDAR
VERSION:2.0
PRODID:-//The Healing Collective - ECPv5.4.0.2//NONSGML v1.0//EN
CALSCALE:GREGORIAN
METHOD:PUBLISH
X-WR-CALNAME:The Healing Collective
X-ORIGINAL-URL:https://old.healingcollective.ca
X-WR-CALDESC:Events for The Healing Collective
BEGIN:VTIMEZONE
TZID:America/Toronto
BEGIN:DAYLIGHT
TZOFFSETFROM:-0500
TZOFFSETTO:-0400
TZNAME:EDT
DTSTART:20190310T070000
END:DAYLIGHT
BEGIN:STANDARD
TZOFFSETFROM:-0400
TZOFFSETTO:-0500
TZNAME:EST
DTSTART:20191103T060000
END:STANDARD
END:VTIMEZONE
BEGIN:VEVENT
DTSTART;TZID=America/Toronto:20190322T110000
DTEND;TZID=America/Toronto:20190322T120000
DTSTAMP:20260423T175748
CREATED:20190304T170238Z
LAST-MODIFIED:20190304T170238Z
UID:10124-1553252400-1553256000@old.healingcollective.ca
SUMMARY:Babywearing 101
DESCRIPTION:Are you interested in learning more about Babywearing? In this Babywearing 101 Workshop you will learn about safety\, optimal positioning and the main categories of baby carriers\, including: woven wraps\, ring slings\, meh dais\, half-buckle and buckle carriers. \nWho: Anyone interested in Babywearing and Baby Carriers\nWhere: Healing Collective - 2005 Danforth Ave\, Toronto Ontario\nWhen: March 22\, 2019\nTime: 11:00 am - 12:00 pm\nCost: Donation\nInfants welcome \nLittle Zen One will not be charging for the workshop\, but collecting donations for the Hospital for Sick Children instead. 100% of your donation will go to the Hospital for Sick Children located in downtown Toronto. Little Zen One will match your donations\, dollar for dollar. \nYou *must* register in advance for this workshop as space is very limited.\n\n\n{image description: floral frame around text "baby wearing 101" with event details below}
URL:https://old.healingcollective.ca/event/babywearing-101/
LOCATION:The Healing Collective\, 2005 Danforth Ave\, Toronto\, Ontario\, Canada
ATTACH;FMTTYPE=image/jpeg:https://old.healingcollective.ca/wp-content/uploads/2019/03/53255412_2429248923962634_5747078958340374528_o.jpg
END:VEVENT
END:VCALENDAR